BEGIN:VCALENDAR
VERSION:2.0
PRODID:-//TSC Alliance - ECPv6.15.20//NONSGML v1.0//EN
CALSCALE:GREGORIAN
METHOD:PUBLISH
X-ORIGINAL-URL:https://www.tscalliance.org
X-WR-CALDESC:Events for TSC Alliance
REFRESH-INTERVAL;VALUE=DURATION:PT1H
X-Robots-Tag:noindex
X-PUBLISHED-TTL:PT1H
BEGIN:VTIMEZONE
TZID:America/New_York
BEGIN:DAYLIGHT
TZOFFSETFROM:-0500
TZOFFSETTO:-0400
TZNAME:EDT
DTSTART:20240310T070000
END:DAYLIGHT
BEGIN:STANDARD
TZOFFSETFROM:-0400
TZOFFSETTO:-0500
TZNAME:EST
DTSTART:20241103T060000
END:STANDARD
BEGIN:DAYLIGHT
TZOFFSETFROM:-0500
TZOFFSETTO:-0400
TZNAME:EDT
DTSTART:20250309T070000
END:DAYLIGHT
BEGIN:STANDARD
TZOFFSETFROM:-0400
TZOFFSETTO:-0500
TZNAME:EST
DTSTART:20251102T060000
END:STANDARD
BEGIN:DAYLIGHT
TZOFFSETFROM:-0500
TZOFFSETTO:-0400
TZNAME:EDT
DTSTART:20260308T070000
END:DAYLIGHT
BEGIN:STANDARD
TZOFFSETFROM:-0400
TZOFFSETTO:-0500
TZNAME:EST
DTSTART:20261101T060000
END:STANDARD
END:VTIMEZONE
BEGIN:VTIMEZONE
TZID:UTC
BEGIN:STANDARD
TZOFFSETFROM:+0000
TZOFFSETTO:+0000
TZNAME:UTC
DTSTART:20240101T000000
END:STANDARD
END:VTIMEZONE
BEGIN:VEVENT
DTSTART;TZID=America/New_York:20250607T090000
DTEND;TZID=America/New_York:20250607T150000
DTSTAMP:20260419T102012
CREATED:20250324T153320Z
LAST-MODIFIED:20250324T153320Z
UID:10000120-1749286800-1749308400@www.tscalliance.org
SUMMARY:Step Forward to Cure TSC® – Harbor City\, CA
DESCRIPTION:Join us for Step Forward to Cure TSC® in Harbor City\, CA on Saturday\, June 7\, 2025! This exciting event\, hosted by the TSC Alliance\, is a chance for the Southern California TSC community to come together\, raise awareness and support the fight against tuberous sclerosis complex (TSC). Step forward to champion the TSC Alliance’s efforts to fund groundbreaking research\, offer critically needed support programs and increase awareness of TSC.⁠ You can create a team\, join an existing team\, register as an individual or donate in honor of someone you care about. \nEvent Details: \n\nSaturday\, June 7\, 2025 @ 9 am PT\n\n\nKen Malloy Harbor Regional Park: 25820 Vermont Ave\, Harbor City\, CA 90710\n\nThis free\, family-friendly event is an opportunity to walk\, run\, or ride while connecting with other TSC families\, clinicians\, and advocates as we work toward creating a better future for everyone affected by TSC. \nCan’t make it in person? Join virtually from our “Step Forward Join Anywhere” page! \nRegister today!
URL:https://www.tscalliance.org/event/step-forward-to-cure-tsc-harbor-city-ca/
LOCATION:Ken Malloy Harbor Regional Park\, 25820 Vermont Ave\, Harbor City\, CA\, 90710\, United States
CATEGORIES:Step Forward to Cure TSC Walk-Run-Ride,Step Forward to Cure TSC
ATTACH;FMTTYPE=image/png:https://www.tscalliance.org/wp-content/uploads/2025/03/Harbor-City-CA.png
ORGANIZER;CN="TSC Alliance":MAILTO:info@tscalliance.org
GEO:33.7834911;-118.2948451
X-APPLE-STRUCTURED-LOCATION;VALUE=URI;X-ADDRESS=Ken Malloy Harbor Regional Park 25820 Vermont Ave Harbor City CA 90710 United States;X-APPLE-RADIUS=500;X-TITLE=25820 Vermont Ave:geo:-118.2948451,33.7834911
END:VEVENT
BEGIN:VEVENT
DTSTART;TZID=UTC:20250607T100000
DTEND;TZID=UTC:20250607T130000
DTSTAMP:20260419T102012
CREATED:20250212T221816Z
LAST-MODIFIED:20250212T221816Z
UID:10000107-1749290400-1749301200@www.tscalliance.org
SUMMARY:Step Forward to Cure TSC® - Pleasant View\, UT
DESCRIPTION:We’re thrilled to announce that Step Forward to Cure TSC® is coming to the Pleasant View\, UT area on Saturday\, June 7\, 2025! This exciting event\, hosted by the TSC Alliance\, is a chance for the Utah area TSC community to come together\, raise awareness and support the fight against tuberous sclerosis complex (TSC). Step forward to champion the TSC Alliance’s efforts to fund groundbreaking research\, offer critically needed support programs and increase awareness of TSC.⁠ You can create a team\, join an existing team\, register as an individual or donate in honor of someone you care about. \nEvent Details: \n\nSaturday\, June 7\, 2025\n\n\nWheeler Farm Outdoor Education Center and 5K Track: 6351 South 900 East\, Murray\, UT 84121\n\nThis free\, family-friendly event is an opportunity to walk\, run\, or ride while connecting with other TSC families\, clinicians\, and advocates as we work toward creating a better future for everyone affected by TSC. \nCan’t make it in person? Join virtually from our “Step Forward Join Anywhere” page! \nRegister today!
URL:https://www.tscalliance.org/event/step-forward-to-cure-tsc-pleasant-view-ut/
LOCATION:Wheeler Farm Outdoor Education Ctr and 5K Track\, 6351 South 900\, East Murray\,\, UT\, 84121
CATEGORIES:Step Forward to Cure TSC Walk-Run-Ride,Step Forward to Cure TSC
ATTACH;FMTTYPE=image/png:https://www.tscalliance.org/wp-content/uploads/2025/02/Salt-Lake-City-UT.png
ORGANIZER;CN="TSC Alliance":MAILTO:info@tscalliance.org
GEO:40.7606608;-111.8939487
X-APPLE-STRUCTURED-LOCATION;VALUE=URI;X-ADDRESS=Wheeler Farm Outdoor Education Ctr and 5K Track 6351 South 900 East Murray UT 84121;X-APPLE-RADIUS=500;X-TITLE=6351 South 900:geo:-111.8939487,40.7606608
END:VEVENT
END:VCALENDAR