BEGIN:VCALENDAR
VERSION:2.0
PRODID:-//TSC Alliance - ECPv6.15.20//NONSGML v1.0//EN
CALSCALE:GREGORIAN
METHOD:PUBLISH
X-ORIGINAL-URL:https://www.tscalliance.org
X-WR-CALDESC:Events for TSC Alliance
REFRESH-INTERVAL;VALUE=DURATION:PT1H
X-Robots-Tag:noindex
X-PUBLISHED-TTL:PT1H
BEGIN:VTIMEZONE
TZID:America/New_York
BEGIN:DAYLIGHT
TZOFFSETFROM:-0500
TZOFFSETTO:-0400
TZNAME:EDT
DTSTART:20240310T070000
END:DAYLIGHT
BEGIN:STANDARD
TZOFFSETFROM:-0400
TZOFFSETTO:-0500
TZNAME:EST
DTSTART:20241103T060000
END:STANDARD
BEGIN:DAYLIGHT
TZOFFSETFROM:-0500
TZOFFSETTO:-0400
TZNAME:EDT
DTSTART:20250309T070000
END:DAYLIGHT
BEGIN:STANDARD
TZOFFSETFROM:-0400
TZOFFSETTO:-0500
TZNAME:EST
DTSTART:20251102T060000
END:STANDARD
BEGIN:DAYLIGHT
TZOFFSETFROM:-0500
TZOFFSETTO:-0400
TZNAME:EDT
DTSTART:20260308T070000
END:DAYLIGHT
BEGIN:STANDARD
TZOFFSETFROM:-0400
TZOFFSETTO:-0500
TZNAME:EST
DTSTART:20261101T060000
END:STANDARD
END:VTIMEZONE
BEGIN:VEVENT
DTSTART;TZID=America/New_York:20250617T190000
DTEND;TZID=America/New_York:20250617T200000
DTSTAMP:20260421T194014
CREATED:20250520T190702Z
LAST-MODIFIED:20250520T190906Z
UID:10000134-1750186800-1750190400@www.tscalliance.org
SUMMARY:2025 Transition Webinar Series - Maximizing Independence and Financial Security: A Comprehensive Guide to ABLE Accounts for Individuals with Disabilities
DESCRIPTION:Join the TSC Alliance for the third webinar of the 2025 Transition Webinar Series! \nThis webinar will take place on Tuesday\, June 17\, 2025 at 7 pm ET. This webinar will feature Kelly Piacenti\, MA\, ChSNC\, a Chartered Special Needs Consultant® from MassMutual SpecialCare and Jerry L. Hulick\, CLU\, ChFC\, ChSNC\, CLTC from The Washington Group Special Care Planning Team to discuss Maximizing Independence and Financial Security: A Comprehensive Guide to ABLE Accounts for Individuals with Disabilities. \nWhat is an ABLE Account? \nAn ABLE (Achieving a Better Life Experience) account is a tax-advantaged savings account and an important tool for qualified individuals with disabilities\, offering additional independence and financial security. \nThis workshop provides essential information on ABLE accounts which grow tax-free and can be invested while still preserving valuable needs-based government benefits for the account owner. \nKelly and Jerry will cover how individuals who are working can make additional contributions from wages to their ABLE account. You will also learn how funds in an ABLE account can cover an expanding wide range of qualified expenses and ways it can work with special needs trusts as part of a comprehensive planning strategy. The ease\, access and low cost of ABLE accounts make them a great choice for millions of individuals with disabilities. \nLearn more about this webinar and register below! \nREGISTER HERE \n 
URL:https://www.tscalliance.org/event/2025-transition-webinar-series-maximizing-independence-and-financial-security-a-comprehensive-guide-to-able-accounts-for-individuals-with-disabilities/
LOCATION:FL
CATEGORIES:Transition Webinar
ATTACH;FMTTYPE=image/png:https://www.tscalliance.org/wp-content/uploads/2025/05/6725.png
ORGANIZER;CN="TSC Alliance":MAILTO:info@tscalliance.org
END:VEVENT
END:VCALENDAR