BEGIN:VCALENDAR
VERSION:2.0
PRODID:-//TSC Alliance - ECPv6.15.20//NONSGML v1.0//EN
CALSCALE:GREGORIAN
METHOD:PUBLISH
X-ORIGINAL-URL:https://www.tscalliance.org
X-WR-CALDESC:Events for TSC Alliance
REFRESH-INTERVAL;VALUE=DURATION:PT1H
X-Robots-Tag:noindex
X-PUBLISHED-TTL:PT1H
BEGIN:VTIMEZONE
TZID:America/New_York
BEGIN:DAYLIGHT
TZOFFSETFROM:-0500
TZOFFSETTO:-0400
TZNAME:EDT
DTSTART:20250309T070000
END:DAYLIGHT
BEGIN:STANDARD
TZOFFSETFROM:-0400
TZOFFSETTO:-0500
TZNAME:EST
DTSTART:20251102T060000
END:STANDARD
BEGIN:DAYLIGHT
TZOFFSETFROM:-0500
TZOFFSETTO:-0400
TZNAME:EDT
DTSTART:20260308T070000
END:DAYLIGHT
BEGIN:STANDARD
TZOFFSETFROM:-0400
TZOFFSETTO:-0500
TZNAME:EST
DTSTART:20261101T060000
END:STANDARD
BEGIN:DAYLIGHT
TZOFFSETFROM:-0500
TZOFFSETTO:-0400
TZNAME:EDT
DTSTART:20270314T070000
END:DAYLIGHT
BEGIN:STANDARD
TZOFFSETFROM:-0400
TZOFFSETTO:-0500
TZNAME:EST
DTSTART:20271107T060000
END:STANDARD
END:VTIMEZONE
BEGIN:VEVENT
DTSTART;TZID=America/New_York:20260516T083000
DTEND;TZID=America/New_York:20260516T120000
DTSTAMP:20260421T144501
CREATED:20260330T154437Z
LAST-MODIFIED:20260330T154437Z
UID:10000179-1778920200-1778932800@www.tscalliance.org
SUMMARY:Step Forward to Cure TSC® – Tampa\, FL
DESCRIPTION:Join us in Tampa\, FL on Saturday\, May 16\, 2026\, at the Shanna and Bryan Glazer JCC for Step Forward to Cure TSC®! \nThis beautiful venue provides the perfect backdrop for a day dedicated to hope\, strength\, and community. Whether you are a long-time supporter or joining us for the first time\, we can’t wait to welcome you for a morning of fun and meaningful connection. \nHow can you get involved?\nSuccess starts with you! By registering early\, you help us build momentum for our biggest year yet. \nREGISTER HERE\n 
URL:https://www.tscalliance.org/event/step-forward-to-cure-tsc-tampa-fl-2/
LOCATION:Shanna and Bryan Glazer JCC\, 522 N Howard Ave\, Tampa\, FL\, 33606\, United States
CATEGORIES:Step Forward to Cure TSC Walk-Run-Ride,Step Forward to Cure TSC
ATTACH;FMTTYPE=image/png:https://www.tscalliance.org/wp-content/uploads/2026/03/Tampa-FL-1-scaled.png
ORGANIZER;CN="TSC Alliance":MAILTO:info@tscalliance.org
END:VEVENT
BEGIN:VEVENT
DTSTART;TZID=America/New_York:20260516T100000
DTEND;TZID=America/New_York:20260516T130000
DTSTAMP:20260421T144501
CREATED:20260115T201528Z
LAST-MODIFIED:20260115T201528Z
UID:10000156-1778925600-1778936400@www.tscalliance.org
SUMMARY:Step Forward to Cure TSC® - Perry\, OH
DESCRIPTION:Join us in Perry\, OH on Saturday\, May 16\, 2026 at Perry High School for Step Forward to Cure TSC®! This Northern Ohio walk is easily accessible for our Ohio\, Michigan\, Indiana\, and surrounding communities\, making it a perfect opportunity to come together in person—or participate virtually if you can’t make it onsite. \n10:00 am – Registration begins\n11:00 am – Walk begins \nWhether you join us in person or virtually\, this walk is a powerful way to unite the TSC community\, raise awareness\, and move us closer to a cure—together. \nREGISTER HERE
URL:https://www.tscalliance.org/event/step-forward-to-cure-tsc-perry-oh-2/
LOCATION:Perry High School\, 1 Success Blvd\, Perry\, Ohio\, 44081
CATEGORIES:Step Forward to Cure TSC Walk-Run-Ride,Step Forward to Cure TSC
ATTACH;FMTTYPE=image/png:https://www.tscalliance.org/wp-content/uploads/2026/01/Perry-OH-scaled.png
ORGANIZER;CN="TSC Alliance":MAILTO:info@tscalliance.org
GEO:41.7736217;-81.140118
X-APPLE-STRUCTURED-LOCATION;VALUE=URI;X-ADDRESS=Perry High School 1 Success Blvd Perry Ohio 44081;X-APPLE-RADIUS=500;X-TITLE=1 Success Blvd:geo:-81.140118,41.7736217
END:VEVENT
BEGIN:VEVENT
DTSTART;TZID=America/New_York:20260516T100000
DTEND;TZID=America/New_York:20260516T130000
DTSTAMP:20260421T144501
CREATED:20260115T214033Z
LAST-MODIFIED:20260115T214033Z
UID:10000157-1778925600-1778936400@www.tscalliance.org
SUMMARY:Step Forward to Cure TSC® - Yuba City\, CA
DESCRIPTION:Join us in Yuba City\, CA on Saturday\, May 16\, 2026\, at Dibra S. Bains Park for Step Forward to Cure TSC®! This Northern California walk is a perfect opportunity to come together in person—or participate virtually if you can’t make it onsite. \n10:00 am – Registration begins\n11:00 am – Walk begins \nWhether you join us in person or virtually\, this walk is a powerful way to unite the TSC community\, raise awareness\, and move us closer to a cure—together. \nREGISTER HERE
URL:https://www.tscalliance.org/event/step-forward-to-cure-tsc-yuba-city-ca/
LOCATION:Dibra S. Bains Park\, 1340 Harter Pkwy\, Yuba City\, CA\, 95993\, United States
CATEGORIES:Step Forward to Cure TSC Walk-Run-Ride,Step Forward to Cure TSC
ATTACH;FMTTYPE=image/png:https://www.tscalliance.org/wp-content/uploads/2026/01/Yuba-City-CA-scaled.png
ORGANIZER;CN="TSC Alliance":MAILTO:info@tscalliance.org
END:VEVENT
BEGIN:VEVENT
DTSTART;TZID=America/New_York:20260516T110000
DTEND;TZID=America/New_York:20260516T140000
DTSTAMP:20260421T144501
CREATED:20260115T214628Z
LAST-MODIFIED:20260211T151852Z
UID:10000158-1778929200-1778940000@www.tscalliance.org
SUMMARY:Step Forward to Cure TSC® - West Chester\, PA
DESCRIPTION:*DATE CHANGE* \nJoin us in West Chester\, PA on Saturday\, May 16\, 2026\, at East High School for Step Forward to Cure TSC®! This walk brings together the TSC community from near and far—including many traveling from out of state—all united by hope\, connection\, and the drive to make a difference. Whether you join us in person or participate virtually\, your presence matters. \n11:00 am – Registration begins\n12:00 pm – Walk begins \nWhether you join us in person or virtually\, this walk is a powerful way to unite the TSC community\, raise awareness\, and move us closer to a cure—together. \nREGISTER HERE
URL:https://www.tscalliance.org/event/step-forward-to-cure-tsc-west-chester-pa-2/
LOCATION:East High School\, Ellis Lane\, West Chester\, PA\, 19380\, United States
CATEGORIES:Step Forward to Cure TSC Walk-Run-Ride,Step Forward to Cure TSC
ATTACH;FMTTYPE=image/png:https://www.tscalliance.org/wp-content/uploads/2026/01/West-Chester-PA-1-scaled.png
ORGANIZER;CN="TSC Alliance":MAILTO:info@tscalliance.org
GEO:39.9799462;-75.565784
X-APPLE-STRUCTURED-LOCATION;VALUE=URI;X-ADDRESS=East High School Ellis Lane West Chester PA 19380 United States;X-APPLE-RADIUS=500;X-TITLE=Ellis Lane:geo:-75.565784,39.9799462
END:VEVENT
BEGIN:VEVENT
DTSTART;TZID=America/New_York:20260516T110000
DTEND;TZID=America/New_York:20260516T140000
DTSTAMP:20260421T144501
CREATED:20260115T215750Z
LAST-MODIFIED:20260116T013129Z
UID:10000160-1778929200-1778940000@www.tscalliance.org
SUMMARY:Step Forward to Cure TSC® - Brookfield\, CT
DESCRIPTION:Join us in Brookfield\, CT on Saturday\, May 16\, 2026\, at Cadigan Park for Step Forward to Cure TSC®! This walk brings together the TSC community from Connecticut—united by hope\, connection\, and the drive to make a difference. Whether you join us in person or participate virtually\, your presence matters. \n11:00 am – Registration begins\n12:00 pm – Walk begins \nWhether you join us in person or virtually\, this walk is a powerful way to unite the TSC community\, raise awareness\, and move us closer to a cure—together. \nREGISTER HERE
URL:https://www.tscalliance.org/event/step-forward-to-cure-tsc-brookfield-ct-2/
LOCATION:Cadigan Park\, 465 Candlewood Lake Road\, Brookfield\, CT\, 06804\, United States
CATEGORIES:Step Forward to Cure TSC Walk-Run-Ride,Step Forward to Cure TSC
ATTACH;FMTTYPE=image/png:https://www.tscalliance.org/wp-content/uploads/2026/01/Brookfield-CT-scaled.png
ORGANIZER;CN="TSC Alliance":MAILTO:info@tscalliance.org
GEO:41.483148;-73.4331221
X-APPLE-STRUCTURED-LOCATION;VALUE=URI;X-ADDRESS=Cadigan Park 465 Candlewood Lake Road Brookfield CT 06804 United States;X-APPLE-RADIUS=500;X-TITLE=465 Candlewood Lake Road:geo:-73.4331221,41.483148
END:VEVENT
END:VCALENDAR