BEGIN:VCALENDAR
VERSION:2.0
PRODID:-//TSC Alliance - ECPv6.15.20//NONSGML v1.0//EN
CALSCALE:GREGORIAN
METHOD:PUBLISH
X-ORIGINAL-URL:https://www.tscalliance.org
X-WR-CALDESC:Events for TSC Alliance
REFRESH-INTERVAL;VALUE=DURATION:PT1H
X-Robots-Tag:noindex
X-PUBLISHED-TTL:PT1H
BEGIN:VTIMEZONE
TZID:America/New_York
BEGIN:DAYLIGHT
TZOFFSETFROM:-0500
TZOFFSETTO:-0400
TZNAME:EDT
DTSTART:20240310T070000
END:DAYLIGHT
BEGIN:STANDARD
TZOFFSETFROM:-0400
TZOFFSETTO:-0500
TZNAME:EST
DTSTART:20241103T060000
END:STANDARD
BEGIN:DAYLIGHT
TZOFFSETFROM:-0500
TZOFFSETTO:-0400
TZNAME:EDT
DTSTART:20250309T070000
END:DAYLIGHT
BEGIN:STANDARD
TZOFFSETFROM:-0400
TZOFFSETTO:-0500
TZNAME:EST
DTSTART:20251102T060000
END:STANDARD
BEGIN:DAYLIGHT
TZOFFSETFROM:-0500
TZOFFSETTO:-0400
TZNAME:EDT
DTSTART:20260308T070000
END:DAYLIGHT
BEGIN:STANDARD
TZOFFSETFROM:-0400
TZOFFSETTO:-0500
TZNAME:EST
DTSTART:20261101T060000
END:STANDARD
END:VTIMEZONE
BEGIN:VEVENT
DTSTART;TZID=America/New_York:20251015T200000
DTEND;TZID=America/New_York:20251015T210000
DTSTAMP:20260421T184328
CREATED:20241219T170634Z
LAST-MODIFIED:20250922T154506Z
UID:10000096-1760558400-1760562000@www.tscalliance.org
SUMMARY:Adult Topic Call
DESCRIPTION:Adult topic calls provide a forum for independent or semi-independent adults with TSC to connect with other adults via Zoom and learn from experts on a wide array of relevant issues. The October call will be an open forum format\, providing an opportunity to meet with other adults living with TSC and ask questions valuable to the entire group. These calls are hosted on the third Wednesday of September\, October\, November\, March\, April and May. You can join using your computer or dial in on the phone. You MUST register in advance to participate in a call. \nRegister for the October 15\, 2025 Topic Call here.
URL:https://www.tscalliance.org/event/adult-topic-call-6/
CATEGORIES:Adult Topic Calls
ATTACH;FMTTYPE=image/jpeg:https://www.tscalliance.org/wp-content/uploads/2024/12/September-2024-ATC-1.jpg
LOCATION:
END:VEVENT
END:VCALENDAR