BEGIN:VCALENDAR
VERSION:2.0
PRODID:-//TSC Alliance - ECPv6.15.20//NONSGML v1.0//EN
CALSCALE:GREGORIAN
METHOD:PUBLISH
X-ORIGINAL-URL:https://www.tscalliance.org
X-WR-CALDESC:Events for TSC Alliance
REFRESH-INTERVAL;VALUE=DURATION:PT1H
X-Robots-Tag:noindex
X-PUBLISHED-TTL:PT1H
BEGIN:VTIMEZONE
TZID:America/New_York
BEGIN:DAYLIGHT
TZOFFSETFROM:-0500
TZOFFSETTO:-0400
TZNAME:EDT
DTSTART:20240310T070000
END:DAYLIGHT
BEGIN:STANDARD
TZOFFSETFROM:-0400
TZOFFSETTO:-0500
TZNAME:EST
DTSTART:20241103T060000
END:STANDARD
BEGIN:DAYLIGHT
TZOFFSETFROM:-0500
TZOFFSETTO:-0400
TZNAME:EDT
DTSTART:20250309T070000
END:DAYLIGHT
BEGIN:STANDARD
TZOFFSETFROM:-0400
TZOFFSETTO:-0500
TZNAME:EST
DTSTART:20251102T060000
END:STANDARD
BEGIN:DAYLIGHT
TZOFFSETFROM:-0500
TZOFFSETTO:-0400
TZNAME:EDT
DTSTART:20260308T070000
END:DAYLIGHT
BEGIN:STANDARD
TZOFFSETFROM:-0400
TZOFFSETTO:-0500
TZNAME:EST
DTSTART:20261101T060000
END:STANDARD
END:VTIMEZONE
BEGIN:VEVENT
DTSTART;VALUE=DATE:20251110
DTEND;VALUE=DATE:20251112
DTSTAMP:20260421T202443
CREATED:20250422T153422Z
LAST-MODIFIED:20250605T174155Z
UID:10000129-1762732800-1762905599@www.tscalliance.org
SUMMARY:Epilepsy Awareness Day @ Disneyland® Resort
DESCRIPTION:Join us for the 13th Annual Epilepsy Awareness & Education Expo. \n📍 Disneyland Hotel\, Anaheim\, CA \n📅 November 10–11\, 2025 \nThis FREE two-day event brings together the largest gathering of epilepsy professionals\, advocates and families in the country. \nCome explore: \n\n100+ exhibitors including top epilepsy centers & providers\nCutting-edge anti-seizure meds and technologies\nNational support groups & service dog demos\n80+ expert-led presentations on diagnosis\, treatment\, surgery & more\nCME available for healthcare providers\nA Research Roundtable & tons of resources for all ages\n\nRegistration is NOW OPEN 👉 Learn more at epilepsyawarenessday.org \nRegister here
URL:https://www.tscalliance.org/event/epilepsy-awareness-day-disneyland-resort/
LOCATION:Disneyland Hotel Convention Center\, 1150 Magic Way\, Anaheim\, CA\, 92802\, United States
ATTACH;FMTTYPE=image/jpeg:https://www.tscalliance.org/wp-content/uploads/2025/04/EADD-202557_Page_4.jpg
GEO:33.809202;-117.9269399
X-APPLE-STRUCTURED-LOCATION;VALUE=URI;X-ADDRESS=Disneyland Hotel Convention Center 1150 Magic Way Anaheim CA 92802 United States;X-APPLE-RADIUS=500;X-TITLE=1150 Magic Way:geo:-117.9269399,33.809202
END:VEVENT
END:VCALENDAR